BEGIN:VCALENDAR
VERSION:2.0
PRODID:icalendar-ruby
CALSCALE:GREGORIAN
METHOD:PUBLISH
BEGIN:VEVENT
DTSTAMP:20260420T234453Z
UID:29-825136@pmcstatesville.com
DTSTART:20260927T210000Z
DTEND:20260927T220000Z
CLASS:PUBLIC
CREATED:20260420T181104
DESCRIPTION:Join us for a new Men's Bible Study beginning Sunday\, March 8t
 h at 5pm in the basement. You're sure to be blessed!
LAST-MODIFIED:20260420T181104
LOCATION:Downstairs
SUMMARY:Men's Bible Study
URL;VALUE=URI:https://www.pmcstatesville.com/events/mens-bible-study/2026-0
 9-27
END:VEVENT
END:VCALENDAR
