BEGIN:VCALENDAR
VERSION:2.0
PRODID:icalendar-ruby
CALSCALE:GREGORIAN
METHOD:PUBLISH
BEGIN:VEVENT
DTSTAMP:20260421T045235Z
UID:29-825346@pmcstatesville.com
DTSTART:20261018T210000Z
DTEND:20261018T220000Z
CLASS:PUBLIC
CREATED:20260420T204556
DESCRIPTION:Join us for a new Men's Bible Study beginning Sunday\, March 8t
 h at 5pm in the basement. You're sure to be blessed!
LAST-MODIFIED:20260420T204556
LOCATION:Downstairs
SUMMARY:Men's Bible Study
URL;VALUE=URI:https://www.pmcstatesville.com/events/mens-bible-study/2026-1
 0-18
END:VEVENT
END:VCALENDAR
