BEGIN:VCALENDAR
VERSION:2.0
PRODID:icalendar-ruby
CALSCALE:GREGORIAN
METHOD:PUBLISH
BEGIN:VEVENT
DTSTAMP:20260424T211519Z
UID:30-829931@pmcstatesville.com
DTSTART:20260920T210000Z
DTEND:20260920T220000Z
CLASS:PUBLIC
CREATED:20260424T163411
DESCRIPTION:Join us for a new Women's Bible Study beginning Sunday\, March 
 8th at 5pm in the basement. You're sure to be blessed!
LAST-MODIFIED:20260424T163411
LOCATION:
SUMMARY:Women's Bible Study
URL;VALUE=URI:https://www.pmcstatesville.com/events/womens-bible-study/2026
 -09-20
END:VEVENT
END:VCALENDAR
