BEGIN:VCALENDAR
VERSION:2.0
PRODID:icalendar-ruby
CALSCALE:GREGORIAN
METHOD:PUBLISH
BEGIN:VEVENT
DTSTAMP:20260425T025139Z
UID:30-830348@pmcstatesville.com
DTSTART:20261011T210000Z
DTEND:20261011T220000Z
CLASS:PUBLIC
CREATED:20260424T221113
DESCRIPTION:Join us for a new Women's Bible Study beginning Sunday\, March 
 8th at 5pm in the basement. You're sure to be blessed!
LAST-MODIFIED:20260424T221113
LOCATION:
SUMMARY:Women's Bible Study
URL;VALUE=URI:https://www.pmcstatesville.com/events/womens-bible-study/2026
 -10-11
END:VEVENT
END:VCALENDAR
